BEGIN:VCALENDAR
VERSION:2.0
PRODID:-//Ovidiu Oltean - ECPv6.15.13.1//NONSGML v1.0//EN
CALSCALE:GREGORIAN
METHOD:PUBLISH
X-ORIGINAL-URL:https://ovidiuoltean.ro
X-WR-CALDESC:Events for Ovidiu Oltean
REFRESH-INTERVAL;VALUE=DURATION:PT1H
X-Robots-Tag:noindex
X-PUBLISHED-TTL:PT1H
BEGIN:VTIMEZONE
TZID:Europe/Helsinki
BEGIN:DAYLIGHT
TZOFFSETFROM:+0200
TZOFFSETTO:+0300
TZNAME:EEST
DTSTART:20140330T010000
END:DAYLIGHT
BEGIN:STANDARD
TZOFFSETFROM:+0300
TZOFFSETTO:+0200
TZNAME:EET
DTSTART:20141026T010000
END:STANDARD
BEGIN:DAYLIGHT
TZOFFSETFROM:+0200
TZOFFSETTO:+0300
TZNAME:EEST
DTSTART:20150329T010000
END:DAYLIGHT
BEGIN:STANDARD
TZOFFSETFROM:+0300
TZOFFSETTO:+0200
TZNAME:EET
DTSTART:20151025T010000
END:STANDARD
BEGIN:DAYLIGHT
TZOFFSETFROM:+0200
TZOFFSETTO:+0300
TZNAME:EEST
DTSTART:20160327T010000
END:DAYLIGHT
BEGIN:STANDARD
TZOFFSETFROM:+0300
TZOFFSETTO:+0200
TZNAME:EET
DTSTART:20161030T010000
END:STANDARD
END:VTIMEZONE
BEGIN:VEVENT
DTSTART;TZID=Europe/Helsinki:20150220T170000
DTEND;TZID=Europe/Helsinki:20150222T220000
DTSTAMP:20260422T142731
CREATED:20150117T045958Z
LAST-MODIFIED:20150117T045958Z
UID:394-1424451600-1424642400@ovidiuoltean.ro
SUMMARY:Bootcamp Toastmasters - Aria H3
DESCRIPTION:
URL:https://ovidiuoltean.ro/event/bootcamp-toastmasters-aria-h3/
CATEGORIES:Toastmasters
ATTACH;FMTTYPE=image/png:https://ovidiuoltean.ro/wp-content/uploads/2014/11/Logo-TM-Cluj.png
ORGANIZER;CN="Toastmasters Cluj":MAILTO:toastmasters.cluj@gmail.com
END:VEVENT
BEGIN:VEVENT
DTSTART;TZID=Europe/Helsinki:20150217T200000
DTEND;TZID=Europe/Helsinki:20150217T220000
DTSTAMP:20260422T142731
CREATED:20150117T045434Z
LAST-MODIFIED:20150117T045434Z
UID:390-1424203200-1424210400@ovidiuoltean.ro
SUMMARY:Ședință Toastmasters Cluj
DESCRIPTION:
URL:https://ovidiuoltean.ro/event/sedinta-toastmasters-cluj-5/
LOCATION:Hotel Central\, Str. Victor Babeș\, nr. 13\, Cluj-Napoca\, Cluj\, România
CATEGORIES:Toastmasters
ATTACH;FMTTYPE=image/png:https://ovidiuoltean.ro/wp-content/uploads/2014/11/Logo-TM-Cluj.png
ORGANIZER;CN="Toastmasters Cluj":MAILTO:toastmasters.cluj@gmail.com
END:VEVENT
BEGIN:VEVENT
DTSTART;TZID=Europe/Helsinki:20150210T200000
DTEND;TZID=Europe/Helsinki:20150210T220000
DTSTAMP:20260422T142731
CREATED:20150117T044457Z
LAST-MODIFIED:20150117T044457Z
UID:386-1423598400-1423605600@ovidiuoltean.ro
SUMMARY:Ședință Toastmasters Cluj
DESCRIPTION:
URL:https://ovidiuoltean.ro/event/sedinta-toastmasters-cluj-4/
LOCATION:Hotel Central\, Str. Victor Babeș\, nr. 13\, Cluj-Napoca\, Cluj\, România
CATEGORIES:Toastmasters
ATTACH;FMTTYPE=image/png:https://ovidiuoltean.ro/wp-content/uploads/2014/11/Logo-TM-Cluj.png
ORGANIZER;CN="Toastmasters Cluj":MAILTO:toastmasters.cluj@gmail.com
END:VEVENT
BEGIN:VEVENT
DTSTART;TZID=Europe/Helsinki:20150203T200000
DTEND;TZID=Europe/Helsinki:20150203T220000
DTSTAMP:20260422T142731
CREATED:20150117T044023Z
LAST-MODIFIED:20150117T044023Z
UID:384-1422993600-1423000800@ovidiuoltean.ro
SUMMARY:Ședință Toastmasters Cluj
DESCRIPTION:
URL:https://ovidiuoltean.ro/event/sedinta-toastmasters-cluj-3/
LOCATION:Hotel Central\, Str. Victor Babeș\, nr. 13\, Cluj-Napoca\, Cluj\, România
CATEGORIES:Toastmasters
ATTACH;FMTTYPE=image/png:https://ovidiuoltean.ro/wp-content/uploads/2014/11/Logo-TM-Cluj.png
ORGANIZER;CN="Toastmasters Cluj":MAILTO:toastmasters.cluj@gmail.com
END:VEVENT
BEGIN:VEVENT
DTSTART;TZID=Europe/Helsinki:20150127T200000
DTEND;TZID=Europe/Helsinki:20150127T213000
DTSTAMP:20260422T142731
CREATED:20150117T042035Z
LAST-MODIFIED:20150117T042035Z
UID:371-1422388800-1422394200@ovidiuoltean.ro
SUMMARY:Ședință Toastmasters Cluj
DESCRIPTION:
URL:https://ovidiuoltean.ro/event/sedinta-toastmasters-cluj-2/
LOCATION:Hotel Central\, Str. Victor Babeș\, nr. 13\, Cluj-Napoca\, Cluj\, România
CATEGORIES:Toastmasters
ATTACH;FMTTYPE=image/png:https://ovidiuoltean.ro/wp-content/uploads/2014/11/Logo-TM-Cluj.png
ORGANIZER;CN="Toastmasters Cluj":MAILTO:toastmasters.cluj@gmail.com
END:VEVENT
BEGIN:VEVENT
DTSTART;TZID=Europe/Helsinki:20150120T200000
DTEND;TZID=Europe/Helsinki:20150120T213000
DTSTAMP:20260422T142731
CREATED:20150117T035609Z
LAST-MODIFIED:20150117T041843Z
UID:360-1421784000-1421789400@ovidiuoltean.ro
SUMMARY:Ședință Toastmasters Cluj
DESCRIPTION:
URL:https://ovidiuoltean.ro/event/sedinta-toastmasters-cluj/
LOCATION:Hotel Central\, Str. Victor Babeș\, nr. 13\, Cluj-Napoca\, Cluj\, România
CATEGORIES:Toastmasters
ATTACH;FMTTYPE=image/png:https://ovidiuoltean.ro/wp-content/uploads/2014/11/Logo-TM-Cluj.png
ORGANIZER;CN="Toastmasters Cluj":MAILTO:toastmasters.cluj@gmail.com
END:VEVENT
END:VCALENDAR