BEGIN:VCALENDAR
VERSION:2.0
PRODID:-//Ovidiu Oltean - ECPv6.15.13.1//NONSGML v1.0//EN
CALSCALE:GREGORIAN
METHOD:PUBLISH
X-ORIGINAL-URL:https://ovidiuoltean.ro
X-WR-CALDESC:Events for Ovidiu Oltean
REFRESH-INTERVAL;VALUE=DURATION:PT1H
X-Robots-Tag:noindex
X-PUBLISHED-TTL:PT1H
BEGIN:VTIMEZONE
TZID:Europe/Helsinki
BEGIN:DAYLIGHT
TZOFFSETFROM:+0200
TZOFFSETTO:+0300
TZNAME:EEST
DTSTART:20140330T010000
END:DAYLIGHT
BEGIN:STANDARD
TZOFFSETFROM:+0300
TZOFFSETTO:+0200
TZNAME:EET
DTSTART:20141026T010000
END:STANDARD
BEGIN:DAYLIGHT
TZOFFSETFROM:+0200
TZOFFSETTO:+0300
TZNAME:EEST
DTSTART:20150329T010000
END:DAYLIGHT
BEGIN:STANDARD
TZOFFSETFROM:+0300
TZOFFSETTO:+0200
TZNAME:EET
DTSTART:20151025T010000
END:STANDARD
BEGIN:DAYLIGHT
TZOFFSETFROM:+0200
TZOFFSETTO:+0300
TZNAME:EEST
DTSTART:20160327T010000
END:DAYLIGHT
BEGIN:STANDARD
TZOFFSETFROM:+0300
TZOFFSETTO:+0200
TZNAME:EET
DTSTART:20161030T010000
END:STANDARD
END:VTIMEZONE
BEGIN:VEVENT
DTSTART;VALUE=DATE:20151024
DTEND;VALUE=DATE:20151026
DTSTAMP:20260422T125030
CREATED:20151008T080932Z
LAST-MODIFIED:20151008T080932Z
UID:1090-1445644800-1445817599@ovidiuoltean.ro
SUMMARY:Conferinta Toastmasters - Divizia H
DESCRIPTION:
URL:https://ovidiuoltean.ro/event/conferinta-toastmasters-divizia-h/
LOCATION:Hotel Opera Plaza\, Str. G-ral Traian Mosoiu\, Nr. 10-12\, Cluj Napoca\, Cluj\, România
CATEGORIES:Toastmasters
ATTACH;FMTTYPE=image/png:https://ovidiuoltean.ro/wp-content/uploads/2014/11/Logo-TM-Cluj.png
ORGANIZER;CN="Toastmasters Cluj":MAILTO:toastmasters.cluj@gmail.com
END:VEVENT
BEGIN:VEVENT
DTSTART;TZID=Europe/Helsinki:20151013T200000
DTEND;TZID=Europe/Helsinki:20151013T213000
DTSTAMP:20260422T125030
CREATED:20151008T075213Z
LAST-MODIFIED:20151008T075213Z
UID:1080-1444766400-1444771800@ovidiuoltean.ro
SUMMARY:Ședință Toastmasters Cluj
DESCRIPTION:
URL:https://ovidiuoltean.ro/event/sedinta-toastmasters-cluj-12/
LOCATION:Hotel Central\, Str. Victor Babeș\, nr. 13\, Cluj-Napoca\, Cluj\, România
CATEGORIES:Toastmasters
ATTACH;FMTTYPE=image/png:https://ovidiuoltean.ro/wp-content/uploads/2014/11/Logo-TM-Cluj.png
ORGANIZER;CN="Toastmasters Cluj":MAILTO:toastmasters.cluj@gmail.com
END:VEVENT
BEGIN:VEVENT
DTSTART;TZID=Europe/Helsinki:20150417T140000
DTEND;TZID=Europe/Helsinki:20150419T220000
DTSTAMP:20260422T125030
CREATED:20150117T053316Z
LAST-MODIFIED:20150117T053316Z
UID:419-1429279200-1429480800@ovidiuoltean.ro
SUMMARY:Conferința Națională Toastmasters
DESCRIPTION:
URL:https://ovidiuoltean.ro/event/conferinta-nationala-toastmasters/
LOCATION:TBD – Timișoara\, Timișoara\, Timiș\, România
CATEGORIES:Toastmasters
ATTACH;FMTTYPE=image/png:https://ovidiuoltean.ro/wp-content/uploads/2014/11/Logo-TM-Cluj.png
ORGANIZER;CN="Toastmasters Cluj":MAILTO:toastmasters.cluj@gmail.com
END:VEVENT
BEGIN:VEVENT
DTSTART;TZID=Europe/Helsinki:20150331T200000
DTEND;TZID=Europe/Helsinki:20150331T213000
DTSTAMP:20260422T125030
CREATED:20150117T052827Z
LAST-MODIFIED:20150117T052827Z
UID:416-1427832000-1427837400@ovidiuoltean.ro
SUMMARY:Ședință Toastmasters Cluj
DESCRIPTION:
URL:https://ovidiuoltean.ro/event/sedinta-toastmasters-cluj-11/
LOCATION:Hotel Central\, Str. Victor Babeș\, nr. 13\, Cluj-Napoca\, Cluj\, România
CATEGORIES:Toastmasters
ATTACH;FMTTYPE=image/png:https://ovidiuoltean.ro/wp-content/uploads/2014/11/Logo-TM-Cluj.png
ORGANIZER;CN="Toastmasters Cluj":MAILTO:toastmasters.cluj@gmail.com
END:VEVENT
BEGIN:VEVENT
DTSTART;VALUE=DATE:20150328
DTEND;VALUE=DATE:20150330
DTSTAMP:20260422T125030
CREATED:20150117T052724Z
LAST-MODIFIED:20150117T052724Z
UID:415-1427500800-1427673599@ovidiuoltean.ro
SUMMARY:Conferința Toastmasters - Aria H3
DESCRIPTION:
URL:https://ovidiuoltean.ro/event/conferinta-toastmasters-aria-h3/
LOCATION:TBD\, Cluj-Napoca\, Cluj\, România
CATEGORIES:Toastmasters
ATTACH;FMTTYPE=image/png:https://ovidiuoltean.ro/wp-content/uploads/2014/11/Logo-TM-Cluj.png
ORGANIZER;CN="Toastmasters Cluj":MAILTO:toastmasters.cluj@gmail.com
END:VEVENT
BEGIN:VEVENT
DTSTART;TZID=Europe/Helsinki:20150324T200000
DTEND;TZID=Europe/Helsinki:20150324T213000
DTSTAMP:20260422T125030
CREATED:20150117T052009Z
LAST-MODIFIED:20150117T052009Z
UID:409-1427227200-1427232600@ovidiuoltean.ro
SUMMARY:Ședință Toastmasters Cluj
DESCRIPTION:
URL:https://ovidiuoltean.ro/event/sedinta-toastmasters-cluj-10/
LOCATION:Hotel Central\, Str. Victor Babeș\, nr. 13\, Cluj-Napoca\, Cluj\, România
CATEGORIES:Toastmasters
ATTACH;FMTTYPE=image/png:https://ovidiuoltean.ro/wp-content/uploads/2014/11/Logo-TM-Cluj.png
ORGANIZER;CN="Toastmasters Cluj":MAILTO:toastmasters.cluj@gmail.com
END:VEVENT
BEGIN:VEVENT
DTSTART;TZID=Europe/Helsinki:20150317T200000
DTEND;TZID=Europe/Helsinki:20150317T213000
DTSTAMP:20260422T125030
CREATED:20150117T051606Z
LAST-MODIFIED:20150117T051606Z
UID:405-1426622400-1426627800@ovidiuoltean.ro
SUMMARY:Ședință Toastmasters Cluj
DESCRIPTION:
URL:https://ovidiuoltean.ro/event/sedinta-toastmasters-cluj-9/
LOCATION:Hotel Central\, Str. Victor Babeș\, nr. 13\, Cluj-Napoca\, Cluj\, România
CATEGORIES:Toastmasters
ATTACH;FMTTYPE=image/png:https://ovidiuoltean.ro/wp-content/uploads/2014/11/Logo-TM-Cluj.png
ORGANIZER;CN="Toastmasters Cluj":MAILTO:toastmasters.cluj@gmail.com
END:VEVENT
BEGIN:VEVENT
DTSTART;TZID=Europe/Helsinki:20150310T200000
DTEND;TZID=Europe/Helsinki:20150310T213000
DTSTAMP:20260422T125030
CREATED:20150117T051035Z
LAST-MODIFIED:20150117T051035Z
UID:402-1426017600-1426023000@ovidiuoltean.ro
SUMMARY:Ședință Toastmasters Cluj
DESCRIPTION:
URL:https://ovidiuoltean.ro/event/sedinta-toastmasters-cluj-8/
LOCATION:Hotel Central\, Str. Victor Babeș\, nr. 13\, Cluj-Napoca\, Cluj\, România
CATEGORIES:Toastmasters
ATTACH;FMTTYPE=image/png:https://ovidiuoltean.ro/wp-content/uploads/2014/11/Logo-TM-Cluj.png
ORGANIZER;CN="Toastmasters Cluj":MAILTO:toastmasters.cluj@gmail.com
END:VEVENT
BEGIN:VEVENT
DTSTART;TZID=Europe/Helsinki:20150303T200000
DTEND;TZID=Europe/Helsinki:20150303T213000
DTSTAMP:20260422T125030
CREATED:20150117T050635Z
LAST-MODIFIED:20150117T050635Z
UID:400-1425412800-1425418200@ovidiuoltean.ro
SUMMARY:Ședință Toastmasters Cluj
DESCRIPTION:
URL:https://ovidiuoltean.ro/event/sedinta-toastmasters-cluj-7/
LOCATION:Hotel Central\, Str. Victor Babeș\, nr. 13\, Cluj-Napoca\, Cluj\, România
CATEGORIES:Toastmasters
ATTACH;FMTTYPE=image/png:https://ovidiuoltean.ro/wp-content/uploads/2014/11/Logo-TM-Cluj.png
ORGANIZER;CN="Toastmasters Cluj":MAILTO:toastmasters.cluj@gmail.com
END:VEVENT
BEGIN:VEVENT
DTSTART;TZID=Europe/Helsinki:20150224T200000
DTEND;TZID=Europe/Helsinki:20150224T213000
DTSTAMP:20260422T125030
CREATED:20150117T050129Z
LAST-MODIFIED:20150117T050129Z
UID:396-1424808000-1424813400@ovidiuoltean.ro
SUMMARY:Ședință Toastmasters Cluj
DESCRIPTION:
URL:https://ovidiuoltean.ro/event/sedinta-toastmasters-cluj-6/
LOCATION:Hotel Central\, Str. Victor Babeș\, nr. 13\, Cluj-Napoca\, Cluj\, România
CATEGORIES:Toastmasters
ATTACH;FMTTYPE=image/png:https://ovidiuoltean.ro/wp-content/uploads/2014/11/Logo-TM-Cluj.png
ORGANIZER;CN="Toastmasters Cluj":MAILTO:toastmasters.cluj@gmail.com
END:VEVENT
BEGIN:VEVENT
DTSTART;TZID=Europe/Helsinki:20150220T170000
DTEND;TZID=Europe/Helsinki:20150222T220000
DTSTAMP:20260422T125030
CREATED:20150117T045958Z
LAST-MODIFIED:20150117T045958Z
UID:394-1424451600-1424642400@ovidiuoltean.ro
SUMMARY:Bootcamp Toastmasters - Aria H3
DESCRIPTION:
URL:https://ovidiuoltean.ro/event/bootcamp-toastmasters-aria-h3/
LOCATION:Cluj
CATEGORIES:Toastmasters
ATTACH;FMTTYPE=image/png:https://ovidiuoltean.ro/wp-content/uploads/2014/11/Logo-TM-Cluj.png
ORGANIZER;CN="Toastmasters Cluj":MAILTO:toastmasters.cluj@gmail.com
END:VEVENT
BEGIN:VEVENT
DTSTART;TZID=Europe/Helsinki:20150217T200000
DTEND;TZID=Europe/Helsinki:20150217T220000
DTSTAMP:20260422T125030
CREATED:20150117T045434Z
LAST-MODIFIED:20150117T045434Z
UID:390-1424203200-1424210400@ovidiuoltean.ro
SUMMARY:Ședință Toastmasters Cluj
DESCRIPTION:
URL:https://ovidiuoltean.ro/event/sedinta-toastmasters-cluj-5/
LOCATION:Hotel Central\, Str. Victor Babeș\, nr. 13\, Cluj-Napoca\, Cluj\, România
CATEGORIES:Toastmasters
ATTACH;FMTTYPE=image/png:https://ovidiuoltean.ro/wp-content/uploads/2014/11/Logo-TM-Cluj.png
ORGANIZER;CN="Toastmasters Cluj":MAILTO:toastmasters.cluj@gmail.com
END:VEVENT
BEGIN:VEVENT
DTSTART;TZID=Europe/Helsinki:20150210T200000
DTEND;TZID=Europe/Helsinki:20150210T220000
DTSTAMP:20260422T125030
CREATED:20150117T044457Z
LAST-MODIFIED:20150117T044457Z
UID:386-1423598400-1423605600@ovidiuoltean.ro
SUMMARY:Ședință Toastmasters Cluj
DESCRIPTION:
URL:https://ovidiuoltean.ro/event/sedinta-toastmasters-cluj-4/
LOCATION:Hotel Central\, Str. Victor Babeș\, nr. 13\, Cluj-Napoca\, Cluj\, România
CATEGORIES:Toastmasters
ATTACH;FMTTYPE=image/png:https://ovidiuoltean.ro/wp-content/uploads/2014/11/Logo-TM-Cluj.png
ORGANIZER;CN="Toastmasters Cluj":MAILTO:toastmasters.cluj@gmail.com
END:VEVENT
BEGIN:VEVENT
DTSTART;TZID=Europe/Helsinki:20150203T200000
DTEND;TZID=Europe/Helsinki:20150203T220000
DTSTAMP:20260422T125030
CREATED:20150117T044023Z
LAST-MODIFIED:20150117T044023Z
UID:384-1422993600-1423000800@ovidiuoltean.ro
SUMMARY:Ședință Toastmasters Cluj
DESCRIPTION:
URL:https://ovidiuoltean.ro/event/sedinta-toastmasters-cluj-3/
LOCATION:Hotel Central\, Str. Victor Babeș\, nr. 13\, Cluj-Napoca\, Cluj\, România
CATEGORIES:Toastmasters
ATTACH;FMTTYPE=image/png:https://ovidiuoltean.ro/wp-content/uploads/2014/11/Logo-TM-Cluj.png
ORGANIZER;CN="Toastmasters Cluj":MAILTO:toastmasters.cluj@gmail.com
END:VEVENT
BEGIN:VEVENT
DTSTART;TZID=Europe/Helsinki:20150127T200000
DTEND;TZID=Europe/Helsinki:20150127T213000
DTSTAMP:20260422T125030
CREATED:20150117T042035Z
LAST-MODIFIED:20150117T042035Z
UID:371-1422388800-1422394200@ovidiuoltean.ro
SUMMARY:Ședință Toastmasters Cluj
DESCRIPTION:
URL:https://ovidiuoltean.ro/event/sedinta-toastmasters-cluj-2/
LOCATION:Hotel Central\, Str. Victor Babeș\, nr. 13\, Cluj-Napoca\, Cluj\, România
CATEGORIES:Toastmasters
ATTACH;FMTTYPE=image/png:https://ovidiuoltean.ro/wp-content/uploads/2014/11/Logo-TM-Cluj.png
ORGANIZER;CN="Toastmasters Cluj":MAILTO:toastmasters.cluj@gmail.com
END:VEVENT
BEGIN:VEVENT
DTSTART;TZID=Europe/Helsinki:20150120T200000
DTEND;TZID=Europe/Helsinki:20150120T213000
DTSTAMP:20260422T125030
CREATED:20150117T035609Z
LAST-MODIFIED:20150117T041843Z
UID:360-1421784000-1421789400@ovidiuoltean.ro
SUMMARY:Ședință Toastmasters Cluj
DESCRIPTION:
URL:https://ovidiuoltean.ro/event/sedinta-toastmasters-cluj/
LOCATION:Hotel Central\, Str. Victor Babeș\, nr. 13\, Cluj-Napoca\, Cluj\, România
CATEGORIES:Toastmasters
ATTACH;FMTTYPE=image/png:https://ovidiuoltean.ro/wp-content/uploads/2014/11/Logo-TM-Cluj.png
ORGANIZER;CN="Toastmasters Cluj":MAILTO:toastmasters.cluj@gmail.com
END:VEVENT
END:VCALENDAR